Workbook

Sheet Calculator
A1: Assumptions (Old System)
A2: Average Salary of Teams | B2: 400000 | D2: Results for Total Race | G2: Results for Average Team
A3: # teams (1-21) | B3: 10 | D3: Prize Money | E3: =(MIN(B3,10)/10)*((B8*B11)+(B9*B12)+(B9*B13))*B6 -> 28159950 | G3: Prize Money | H3: =E3/B3 -> 2815995
A4: Category of Race (1-6) | B4: 5 | D4: Salary | E4: =B3*(MIN(B3,10)/10)*B2*B6 -> 84000000 | G4: Salary | H4: =E4/B3 -> 8400000
A5: One-Day Race / Tour | B5: Tour | D5: Covered Salary | E5: =B3*(MIN(B3,10)/10)*B10*B6 -> 78750000 | G5: Covered Salary | H5: =E5/B3 -> 7875000
A6: Length of Tour (1-21) | B6: 21 | D6: Uncovered Salary | E6: =E4-E5 -> 5250000 | G6: Uncovered Salary | H6: =H4-H5 -> 525000
A7: Number of Riders per Team | B7: 9 | D7: Profit | E7: =E3-E6 -> 22909950 | G7: Profit | H7: =H3-H6 -> 2290995
A8: Stage Factor | B8: =IF(B5="One-Day Race",VLOOKUP(B4,Cat!$A$1:$D$7,2,FALSE),VLOOKUP(B4,Cat!$A$1:$D$7,3,FALSE)) -> 1.25
A9: GC Factor | B9: =IF(B5="One-Day Race",0,VLOOKUP(B4,Cat!$A$1:$D$7,4,FALSE)) -> 1.1 | D9: Results for Total Race | G9: Results for Average Team | J9: Changes
A10: Starting Premium per Team | B10: =IF(B2<VLOOKUP(B7,Cat!$A$10:$B$15,2,FALSE),B2,VLOOKUP(B7,Cat!$A$10:$B$15,2,FALSE)) -> 375000 | D10: Prize Money | E10: =(B3/10)*((B8*B11)+(B9*B12)+(B9*B13))*B6 -> 28159950 | G10: Prize Money | H10: =E10/B3 -> 2815995 | J10: 1.) Adjust ONLY Prize Money. DO NOT adjust Salary.
A11: Standard Prize Money for Stages | B11: =SUMPRODUCT(Money!$B$2:$B$41,Money!$D$2:$D$41) -> 659600 | D11: Salary | E11: =B3*B2*B6 -> 84000000 | G11: Salary | H11: =E11/B3 -> 8400000 | J11: 2.) ALWAYS adjust Prize Money, below & above 10 Teams.
A12: Standard Prize Money for GC | B12: =SUMPRODUCT(Money!$C$2:$C$41,Money!$D$2:$D$41) -> 319800 | D12: Covered Salary | E12: =B3*B10*B6 -> 78750000 | G12: Covered Salary | H12: =E12/B3 -> 7875000 | J12: 3.) Compensation for Pain & Suffering when <40 riders: MINIMUM 0.
A13: Standard Prize Money for Special Classements | B13: =Money!$F$9+Money!$F$16+Money!$F$24 -> 149700 | D13: Uncovered Salary | E13: =E11-E12 -> 5250000 | G13: Uncovered Salary | H13: =H11-H12 -> 525000
D14: Profit | E14: =IF(B7*B3<40,MAX(0,E10-E13),E10-E13) -> 22909950 | G14: Profit | H14: =IF(B3*B7<40,MAX(0,H10-H13),H10-H13) -> 2290995
C16: =A2 -> Average Salary of Teams
B17: =H7 -> 2290995 | C17: 350000 | D17: 375000 | E17: 400000 | F17: 425000 | G17: 450000 | H17: 475000 | I17: 500000 | J17: 525000 | K17: 550000
A18: # of teams | B18: 1 | C18: 1921647 | D18: 1921647 | E18: 1869147 | F18: 1816647 | G18: 1764147 | H18: 1711647 | I18: 1659147 | J18: 1606647 | K18: 1554147
B19: 2 | C19: 2503767 | D19: 2503767 | E19: 2398767 | F19: 2293767 | G19: 2188767 | H19: 2083767 | I19: 1978767 | J19: 1873767 | K19: 1768767
B20: 3 | C20: 2775927 | D20: 2775927 | E20: 2618427 | F20: 2460927 | G20: 2303427 | H20: 2145927 | I20: 1988427 | J20: 1830927 | K20: 1673427
B21: 4 | C21: 2813349 | D21: 2813349 | E21: 2603349 | F21: 2393349 | G21: 2183349 | H21: 1973349 | I21: 1763349 | J21: 1553349 | K21: 1343349
B22: 5 | C22: 2815995 | D22: 2815995 | E22: 2553495 | F22: 2290995 | G22: 2028495 | H22: 1765995 | I22: 1503495 | J22: 1240995 | K22: 978495
B23: 6 | C23: 2815995 | D23: 2815995 | E23: 2500995 | F23: 2185995 | G23: 1870995 | H23: 1555995 | I23: 1240995 | J23: 925995 | K23: 610995
B24: 7 | C24: 2815995 | D24: 2815995 | E24: 2448495 | F24: 2080995 | G24: 1713495 | H24: 1345995 | I24: 978495 | J24: 610995 | K24: 243495
B25: 8 | C25: 2815995 | D25: 2815995 | E25: 2395995 | F25: 1975995 | G25: 1555995 | H25: 1135995 | I25: 715995 | J25: 295995 | K25: -124005
B26: 9 | C26: 2815995 | D26: 2815995 | E26: 2343495 | F26: 1870995 | G26: 1398495 | H26: 925995 | I26: 453495 | J26: -19005 | K26: -491505
B27: 10 | C27: 2815995 | D27: 2815995 | E27: 2290995 | F27: 1765995 | G27: 1240995 | H27: 715995 | I27: 190995 | J27: -334005 | K27: -859005
B28: 11 | C28: 2559995.5 | D28: 2559995.5 | E28: 2034995.5 | F28: 1509995.5 | G28: 984995.45 | H28: 459995.45 | I28: -65004.545 | J28: -590004.55 | K28: -1115004.5
B29: 12 | C29: 2346662.5 | D29: 2346662.5 | E29: 1821662.5 | F29: 1296662.5 | G29: 771662.5 | H29: 246662.5 | I29: -278337.5 | J29: -803337.5 | K29: -1328337.5
B30: 13 | C30: 2166150 | D30: 2166150 | E30: 1641150 | F30: 1116150 | G30: 591150 | H30: 66150 | I30: -458850 | J30: -983850 | K30: -1508850
... B38: 21 | C38: 1340950 | D38: 1340950 | E38: 815950 | F38: 290950 | G38: -234050 | H38: -759050 | I38: -1284050 | J38: -1809050 | K38: -2334050
C40: =C16 -> Average Salary of Teams
B41: =H14 -> 2290995 | C41: 350000 | D41: 375000 | E41: 400000 | F41: 425000 | G41: 450000 | H41: 475000 | I41: 500000 | J41: 525000 | K41: 550000
A42: # of teams | B42: 1 | C42: 1921647 | D42: 1921647 | E42: 1396647 | F42: 871647 | G42: 346647 | H42: 0 | I42: 0 | J42: 0 | K42: 0
B43: 2 | C43: 2503767 | D43: 2503767 | E43: 1978767 | F43: 1453767 | G43: 928767 | H43: 403767 | I43: 0 | J43: 0 | K43: 0
B44: 3 | C44: 2775927 | D44: 2775927 | E44: 2250927 | F44: 1725927 | G44: 1200927 | H44: 675927 | I44: 150927 | J44: 0 | K44: 0
B45: 4 | C45: 2813349 | D45: 2813349 | E45: 2288349 | F45: 1763349 | G45: 1238349 | H45: 713349 | I45: 188349 | J45: 0 | K45: 0
B46: 5 | C46: 2815995 | D46: 2815995 | E46: 2290995 | F46: 1765995 | G46: 1240995 | H46: 715995 | I46: 190995 | J46: -334005 | K46: -859005
B47: 6 | C47: 2815995 | D47: 2815995 | E47: 2290995 | F47: 1765995 | G47: 1240995 | H47: 715995 | I47: 190995 | J47: -334005 | K47: -859005
B48: 7 | C48: 2815995 | D48: 2815995 | E48: 2290995 | F48: 1765995 | G48: 1240995 | H48: 715995 | I48: 190995 | J48: -334005 | K48: -859005
B49: 8 | C49: 2815995 | D49: 2815995 | E49: 2290995 | F49: 1765995 | G49: 1240995 | H49: 715995 | I49: 190995 | J49: -334005 | K49: -859005
B50: 9 | C50: 2815995 | D50: 2815995 | E50: 2290995 | F50: 1765995 | G50: 1240995 | H50: 715995 | I50: 190995 | J50: -334005 | K50: -859005
B51: 10 | C51: 2815995 | D51: 2815995 | E51: 2290995 | F51: 1765995 | G51: 1240995 | H51: 715995 | I51: 190995 | J51: -334005 | K51: -859005
B52: 11 | C52: 2815995 | D52: 2815995 | E52: 2290995 | F52: 1765995 | G52: 1240995 | H52: 715995 | I52: 190995 | J52: -334005 | K52: -859005
B53: 12 | C53: 2815995 | D53: 2815995 | E53: 2290995 | F53: 1765995 | G53: 1240995 | H53: 715995 | I53: 190995 | J53: -334005 | K53: -859005
B54: 13 | C54: 2815995 | D54: 2815995 | E54: 2290995 | F54: 1765995 | G54: 1240995 | H54: 715995 | I54: 190995 | J54: -334005 | K54: -859005
... B62: 21 | C62: 2815995 | D62: 2815995 | E62: 2290995 | F62: 1765995 | G62: 1240995 | H62: 715995 | I62: 190995 | J62: -334005 | K62: -859005

Sheet Cat
A1: Cat | B1: One-Day Factor | C1: Stage Race Factor | D1: GC Factor
A2: 1 | B2: 0.9 | C2: 0.8 | D2: 0.9
A3: 2 | B3: 1 | C3: 0.9 | D3: 0.95
A4: 3 | B4: 1.1 | C4: 1 | D4: 1
A5: 4 | B5: 1.25 | C5: 1.1 | D5: 1.05
A6: 5 | B6: 1.5 | C6: 1.25 | D6: 1.1
A7: 6 | B7: 2
A10: Riders | B10: Starting Premium
A11: 9 | B11: 375000
A12: 8 | B12: 335000
A13: 7 | B13: 295000
A14: 6 | B14: 255000
A15: 5 | B15: 215000

Sheet Money
A1: Place | B1: One-Day Race | C1: GC | D1: Available
A2: 1 | B2: 120000 | C2: 50000 | D2: =IF((Calculator!$B$7*Calculator!$B$3)>=Money!A2,1,0) -> 1 | F2: Mannschaftswertung
A3: 2 | B3: 70000 | C3: 35000 | D3: =IF((Calculator!$B$7*Calculator!$B$3)>=Money!A3,1,0) -> 1 | F3: 5000
A4: 3 | B4: 50000 | C4: 25000 | D4: =IF((Calculator!$B$7*Calculator!$B$3)>=Money!A4,1,0) -> 1 | F4: 3250
A5: 4 | B5: 40000 | C5: 20000 | D5: =IF((Calculator!$B$7*Calculator!$B$3)>=Money!A5,1,0) -> 1 | F5: 3000
A6: 5 | B6: 35000 | C6: 17500 | D6: =IF((Calculator!$B$7*Calculator!$B$3)>=Money!A6,1,0) -> 1 | F6: 2750
A7: 6 | B7: 30000 | C7: 15000 | D7: =IF((Calculator!$B$7*Calculator!$B$3)>=Money!A7,1,0) -> 1 | F7: 2500
A8: 7 | B8: 28000 | C8: 14000 | D8: =IF((Calculator!$B$7*Calculator!$B$3)>=Money!A8,1,0) -> 1
A9: 8 | B9: 26000 | C9: 13000 | D9: =IF((Calculator!$B$7*Calculator!$B$3)>=Money!A9,1,0) -> 1 | F9: =SUM(F3:F7)*9/5 -> 29700
A10: 9 | B10: 24000 | C10: 12000 | D10: =IF((Calculator!$B$7*Calculator!$B$3)>=Money!A10,1,0) -> 1
A11: 10 | B11: 22000 | C11: 11000 | D11: =IF((Calculator!$B$7*Calculator!$B$3)>=Money!A11,1,0) -> 1 | F11: Sprint/Berg/Jungfahrer
A12: 11 | B12: 20000 | C12: 10000 | D12: =IF((Calculator!$B$7*Calculator!$B$3)>=Money!A12,1,0) -> 1 | F12: 75000
A13: 12 | B13: 19000 | C13: 9500 | D13: =IF((Calculator!$B$7*Calculator!$B$3)>=Money!A13,1,0) -> 1 | F13: 35000
A14: 13 | B14: 18000 | C14: 9000 | D14: =IF((Calculator!$B$7*Calculator!$B$3)>=Money!A14,1,0) -> 1 | F14: 15000
A15: 14 | B15: 17000 | C15: 8500 | D15: =IF((Calculator!$B$7*Calculator!$B$3)>=Money!A15,1,0) -> 1
A16: 15 | B16: 16000 | C16: 8000 | D16: =IF((Calculator!$B$7*Calculator!$B$3)>=Money!A16,1,0) -> 1 | F16: =SUM(F12:F14)*3/5 -> 75000
A17: 16 | B17: 15000 | C17: 7500 | D17: =IF((Calculator!$B$7*Calculator!$B$3)>=Money!A17,1,0) -> 1
A18: 17 | B18: 14000 | C18: 7000 | D18: =IF((Calculator!$B$7*Calculator!$B$3)>=Money!A18,1,0) -> 1 | F18: Sonstiges
A19: 18 | B19: 13000 | C19: 6500 | D19: =IF((Calculator!$B$7*Calculator!$B$3)>=Money!A19,1,0) -> 1 | F19: 20000
A20: 19 | B20: 12000 | C20: 6000 | D20: =IF((Calculator!$B$7*Calculator!$B$3)>=Money!A20,1,0) -> 1 | F20: 10000
A21: 20 | B21: 11000 | C21: 5500 | D21: =IF((Calculator!$B$7*Calculator!$B$3)>=Money!A21,1,0) -> 1 | F21: 10000
A22: 21 | B22: 10000 | C22: 5000 | D22: =IF((Calculator!$B$7*Calculator!$B$3)>=Money!A22,1,0) -> 1 | F22: 5000
A23: 22 | B23: 9000 | C23: 4500 | D23: =IF((Calculator!$B$7*Calculator!$B$3)>=Money!A23,1,0) -> 1
A24: 23 | B24: 8000 | C24: 4000 | D24: =IF((Calculator!$B$7*Calculator!$B$3)>=Money!A24,1,0) -> 1 | F24: =SUM(F19:F22) -> 45000
A25: 24 | B25: 7000 | C25: 3500 | D25: =IF((Calculator!$B$7*Calculator!$B$3)>=Money!A25,1,0) -> 1
A26: 25 | B26: 6000 | C26: 3000 | D26: =IF((Calculator!$B$7*Calculator!$B$3)>=Money!A26,1,0) -> 1 | F26: =C43+B43+F9+F16+F24-SUM(B37:B41) -> 1128000
A27: 26 | B27: 5000 | C27: 2500 | D27: =IF((Calculator!$B$7*Calculator!$B$3)>=Money!A27,1,0) -> 1
A28: 27 | B28: 4000 | C28: 2000 | D28: =IF((Calculator!$B$7*Calculator!$B$3)>=Money!A28,1,0) -> 1
A29: 28 | B29: 3000 | C29: 1500 | D29: =IF((Calculator!$B$7*Calculator!$B$3)>=Money!A29,1,0) -> 1
A30: 29 | B30: 2000 | C30: 1000 | D30: =IF((Calculator!$B$7*Calculator!$B$3)>=Money!A30,1,0) -> 1
A31: 30 | B31: 1000 | C31: 500 | D31: =IF((Calculator!$B$7*Calculator!$B$3)>=Money!A31,1,0) -> 1
A32: 31 | B32: 900 | C32: 450 | D32: =IF((Calculator!$B$7*Calculator!$B$3)>=Money!A32,1,0) -> 1
A33: 32 | B33: 800 | C33: 400 | D33: =IF((Calculator!$B$7*Calculator!$B$3)>=Money!A33,1,0) -> 1
A34: 33 | B34: 700 | C34: 350 | D34: =IF((Calculator!$B$7*Calculator!$B$3)>=Money!A34,1,0) -> 1
A35: 34 | B35: 600 | C35: 300 | D35: =IF((Calculator!$B$7*Calculator!$B$3)>=Money!A35,1,0) -> 1
A36: 35 | B36: 500 | C36: 250 | D36: =IF((Calculator!$B$7*Calculator!$B$3)>=Money!A36,1,0) -> 1
A37: 36 | B37: 400 | C37: 200 | D37: =IF((Calculator!$B$7*Calculator!$B$3)>=Money!A37,1,0) -> 1
A38: 37 | B38: 300 | C38: 150 | D38: =IF((Calculator!$B$7*Calculator!$B$3)>=Money!A38,1,0) -> 1
... A41: 40 | B41: 100 | C41: 50 | D41: =IF((Calculator!$B$7*Calculator!$B$3)>=Money!A41,1,0) -> 1
B43: =SUM(B2:B41) -> 659600 | C43: =SUM(C2:C41) -> 319800
